BEGIN:VCALENDAR
VERSION:2.0
PRODID:-//eventon.com NONSGML v1.0//EN
CALSCALE:GREGORIAN
METHOD:PUBLISH
BEGIN:VEVENT
UID:69e82944d172a
DTSTAMP:20260422T034956
DTSTART:20260530T145900Z
DTEND:20260530T145900Z
TZID:Europe/Paris
LOCATION:Festival Au Pays de Bières - FLEURY EN BIERE (Fontainebleau) (77) 3-1 Rue le Cul de Sac\,  77930 Fleury-en-Bière\,  France
SUMMARY:THE SILENCERS - Roads & Roots Tour
DESCRIPTION: Préparez-vous à vivre une expérience musicale inoubliable ! The Silencers\,  le groupe légendaire au son puissant et aux mélodies envoûtantes\,  débarque avec leur nouvelle tournée « Roads &amp; Roots Tour » pour célébrer la sortie de leur album tant attendu : Roads &amp; Roots. 🔥 Pourquoi ne pas manquer ce concert ?Un[..]\nhttps://www.music-for-ever.fr/events/the-silencers-roads-roots-tour-2/
URL:https://www.music-for-ever.fr/events/the-silencers-roads-roots-tour-2/
END:VEVENT
END:VCALENDAR