BEGIN:VCALENDAR
VERSION:2.0
PRODID:-//eventon.com NONSGML v1.0//EN
CALSCALE:GREGORIAN
METHOD:PUBLISH
BEGIN:VEVENT
UID:69e82940f34e9
DTSTAMP:20260422T034952
DTSTART:20260522T145900Z
DTEND:20260522T145900Z
TZID:Europe/Paris
LOCATION:Festival Les Petites Folies - LAMPAUL-PLOUARZEL (29) Rue de Beg ar Vir\,  29810 Lampaul-Plouarzel\,  France
SUMMARY:THE SILENCERS - Roads & Roots Tour
DESCRIPTION: Préparez-vous à vivre une expérience musicale inoubliable ! The Silencers\,  le groupe légendaire au son puissant et aux mélodies envoûtantes\,  débarque avec leur nouvelle tournée « Roads &amp; Roots Tour » pour célébrer la sortie de leur album tant attendu : Roads &amp; Roots. 🔥 Pourquoi ne pas manquer ce concert ?Un[..]\nhttps://www.music-for-ever.fr/events/the-silencers-roads-roots-tour/
URL:https://www.music-for-ever.fr/events/the-silencers-roads-roots-tour/
END:VEVENT
END:VCALENDAR