BEGIN:VCALENDAR
VERSION:2.0
PRODID:-//eventon.com NONSGML v1.0//EN
CALSCALE:GREGORIAN
METHOD:PUBLISH
BEGIN:VEVENT
UID:69e0434309e9a
DTSTAMP:20260416T040243
DTSTART:20270311T122800Z
DTEND:20270311T122800Z
TZID:Europe/Paris
LOCATION:Zénith - STRASBOURG (67) 1 All. du Zénith\,  67201 Eckbolsheim\,  France
SUMMARY:MICHAEL CELEBRATION
DESCRIPTION: Le spectacle hommage ultime à Michael JacksonPlongez dans l’univers du Roi de la Pop avec MICHAEL CELEBRATION\,  un spectacle époustouflant porté par Sergio Cortes\,  mondialement reconnu comme le sosie le plus impressionnant de Michael Jackson. Grâce à une ressemblance troublante\,  une maîtrise parfaite des chorégraphies mythiques et une présence scénique[..]\nhttps://www.music-for-ever.fr/events/michael-celebration-2/
URL:https://www.music-for-ever.fr/events/michael-celebration-2/
END:VEVENT
END:VCALENDAR