BEGIN:VCALENDAR
VERSION:2.0
PRODID:-//eventon.com NONSGML v1.0//EN
CALSCALE:GREGORIAN
METHOD:PUBLISH
BEGIN:VEVENT
UID:69e04b799f414
DTSTAMP:20260416T043745
DTSTART:20270310T122800Z
DTEND:20270310T122800Z
TZID:Europe/Paris
LOCATION:Reims Arena - Reims (51) 24 Bd Jules César\,  51100 Reims\,  France
SUMMARY:MICHAEL CELEBRATION
DESCRIPTION: Le spectacle hommage ultime à Michael JacksonPlongez dans l’univers du Roi de la Pop avec MICHAEL CELEBRATION\,  un spectacle époustouflant porté par Sergio Cortes\,  mondialement reconnu comme le sosie le plus impressionnant de Michael Jackson. Grâce à une ressemblance troublante\,  une maîtrise parfaite des chorégraphies mythiques et une présence scénique[..]\nhttps://www.music-for-ever.fr/events/michael-celebration/
URL:https://www.music-for-ever.fr/events/michael-celebration/
END:VEVENT
END:VCALENDAR