BEGIN:VCALENDAR
VERSION:2.0
PRODID:-//eventon.com NONSGML v1.0//EN
CALSCALE:GREGORIAN
METHOD:PUBLISH
BEGIN:VEVENT
UID:69ead239c9855
DTSTAMP:20260424T041521
DTSTART:20260918T102200Z
DTEND:20260918T102200Z
TZID:Europe/Paris
LOCATION:Noumatrouff - Mulhouse (68) Rue Alain Bashung\,  68100 Mulhouse
SUMMARY:MYRATH + Guest
DESCRIPTION: Myrath\,  les maîtres du blazing desert metal\,  débarquent pour une soirée où le sable brûlant rencontre l’acier des riffs et la majesté des mélodies orientales. Formé entre la Tunisie et la France\,  le groupe a forgé un son unique\,  mêlant metal progressif\,  power metal et instruments traditionnels du Moyen-Orient pour[..]\nhttps://www.music-for-ever.fr/events/myrath-guest/
URL:https://www.music-for-ever.fr/events/myrath-guest/
END:VEVENT
END:VCALENDAR