BEGIN:VCALENDAR
VERSION:2.0
PRODID:-//eventon.com NONSGML v1.0//EN
CALSCALE:GREGORIAN
METHOD:PUBLISH
BEGIN:VEVENT
UID:69e82930c8d23
DTSTAMP:20260422T034936
DTSTART:20260516T145400Z
DTEND:20260516T145400Z
TZID:Europe/Paris
LOCATION:La Laiterie - Strasbourg (67) 20 Rue du Ban-de-la-Roche\,  67000 Strasbourg
SUMMARY:DUST IN MIND + Akiavel + guests
DESCRIPTION: Concert : DUST IN MIND + AKIAVEL – 16 mai 2026 à La Laiterie DUST IN MIND célèbre la sortie de son nouvel album « HCNO » (disponible le 24 avril 2026) lors d’un concert exceptionnel à La Laiterie. Ce projet marque un tournant artistique pour le groupe\,  avec une[..]\nhttps://www.music-for-ever.fr/events/dust-in-mind-akiavel-guests/
URL:https://www.music-for-ever.fr/events/dust-in-mind-akiavel-guests/
END:VEVENT
END:VCALENDAR