BEGIN:VCALENDAR
VERSION:2.0
PRODID:-//eventon.com NONSGML v1.0//EN
CALSCALE:GREGORIAN
METHOD:PUBLISH
BEGIN:VEVENT
UID:69e82925145b8
DTSTAMP:20260422T034925
DTSTART:20260526T143100Z
DTEND:20260526T143100Z
TZID:Europe/Paris
LOCATION:La Biscuiterie - Château-Thierry (02) 53 Rue Paul Doucet\,  02400 Château-Thierry
SUMMARY:Uli Jon Roth - Virgin Killer 50th Anniversary Tour »
DESCRIPTION: Légende vivante du rock et ex-guitariste des Scorpions\,  Uli Jon Roth célèbre en 2026 les 50 ans de l’album Virgin Killer. Pour la première fois – et ultime fois – cet opus certifié disque d’or sera interprété dans son intégralité lors d’une tournée européenne exceptionnelle. De 1974 à 1978\,  Uli[..]\nhttps://www.music-for-ever.fr/events/uli-jon-roth-virgin-killer-50th-anniversary-tour/
URL:https://www.music-for-ever.fr/events/uli-jon-roth-virgin-killer-50th-anniversary-tour/
END:VEVENT
END:VCALENDAR