BEGIN:VCALENDAR
VERSION:2.0
PRODID:-//eventon.com NONSGML v1.0//EN
CALSCALE:GREGORIAN
METHOD:PUBLISH
BEGIN:VEVENT
UID:69e829015059c
DTSTAMP:20260422T034849
DTSTART:20260430T170600Z
DTEND:20260430T170600Z
TZID:Europe/Paris
LOCATION:Le Splendid - Lille (59) 1 Pl. du Mont de Terre\,  59800 Lille
SUMMARY:Wishbone Ash
DESCRIPTION: Wishbone Ash est un groupe de rock britannique formé en 1969\,  reconnu pour son innovation avec le style des « guitares jumelles ». Leur album Argus (1972) est un classique du rock\,  salué pour son mélange unique de rock\,  blues\,  et folk. Le groupe\,  mené par le guitariste Andy Powell\,  a connu[..]\nhttps://www.music-for-ever.fr/events/wishbone-ash-3/
URL:https://www.music-for-ever.fr/events/wishbone-ash-3/
END:VEVENT
END:VCALENDAR