BEGIN:VCALENDAR
VERSION:2.0
PRODID:-//eventon.com NONSGML v1.0//EN
CALSCALE:GREGORIAN
METHOD:PUBLISH
BEGIN:VEVENT
UID:69e828fd73570
DTSTAMP:20260422T034845
DTSTART:20260521T140100Z
DTEND:20260521T140100Z
TZID:Europe/Paris
LOCATION:L'illiade - Illkirch Graffenstaden (67) 11 All. François Mitterrand\,  67400 Illkirch-Graffenstaden
SUMMARY:Blandine Lehout
DESCRIPTION: Dans « La Vie de Ta Mère »Seule en scène – Drôle\,  cash et profondément humain Blandine Lehout est une tornade d&rsquo;énergie\,  d&rsquo;émotion et d&rsquo;humour. Autrice\,  comédienne et chroniqueuse\,  elle livre avec La Vie de Ta Mère un seul-en-scène audacieux\,  drôle et décapant\,  où se mêlent confessions crues\,  anecdotes délirantes et vérités[..]\nhttps://www.music-for-ever.fr/events/blandine-lehout-2/
URL:https://www.music-for-ever.fr/events/blandine-lehout-2/
END:VEVENT
END:VCALENDAR