BEGIN:VCALENDAR
VERSION:2.0
PRODID:-//eventon.com NONSGML v1.0//EN
CALSCALE:GREGORIAN
METHOD:PUBLISH
BEGIN:VEVENT
UID:69e828f99bf6a
DTSTAMP:20260422T034841
DTSTART:20260505T143800Z
DTEND:20260505T143800Z
TZID:Europe/Paris
LOCATION:L'illiade - Illkirch Graffenstaden (67) 11 All. François Mitterrand\,  67400 Illkirch-Graffenstaden
SUMMARY:Antoine Donneaux
DESCRIPTION: Antoine Donneaux se distingue par sa capacité à mêler stand-up\,  chansons et imitations. Inspiré par des artistes comme Laurent Gerra\,  il aborde des thèmes variés allant des souvenirs personnels aux enjeux sociaux contemporains. Son humour\,  à la fois accessible et percutant\,  attire un large public\,  des amateurs de comédie aux[..]\nhttps://www.music-for-ever.fr/events/antoine-donneaux/
URL:https://www.music-for-ever.fr/events/antoine-donneaux/
END:VEVENT
END:VCALENDAR