BEGIN:VCALENDAR
VERSION:2.0
PRODID:-//eventon.com NONSGML v1.0//EN
CALSCALE:GREGORIAN
METHOD:PUBLISH
BEGIN:VEVENT
UID:69e828f1537c7
DTSTAMP:20260422T034833
DTSTART:20260529T202200Z
DTEND:20260529T202200Z
TZID:Europe/Paris
LOCATION:Théâtre Galli – Sanary-sur-Mer (83) 80 Av. Raoul Henry\,  83110 Sanary-sur-Mer
SUMMARY:DÉBRANCHE
DESCRIPTION: Plongez dans l’émotion pure avec « Débranche » : un hommage envoûtant à France Gall et Michel BergerUn spectacle hors du temps\,  où la légende rencontre la modernité« Débranche » n’est pas un simple concert\,  mais une expérience musicale immersive\,  une célébration vibrante de l’héritage intemporel de France Gall et[..]\nhttps://www.music-for-ever.fr/events/debranche-3/
URL:https://www.music-for-ever.fr/events/debranche-3/
END:VEVENT
END:VCALENDAR