BEGIN:VCALENDAR
VERSION:2.0
PRODID:-//eventon.com NONSGML v1.0//EN
CALSCALE:GREGORIAN
METHOD:PUBLISH
BEGIN:VEVENT
UID:69e828ed85152
DTSTAMP:20260422T034829
DTSTART:20260521T202200Z
DTEND:20260521T202200Z
TZID:Europe/Paris
LOCATION:La MAC - Relais culturel de Bischwiller (67) 1 Rue du Stade\,  67240 Bischwiller
SUMMARY:DÉBRANCHE
DESCRIPTION: Plongez dans l’émotion pure avec « Débranche » : un hommage envoûtant à France Gall et Michel BergerUn spectacle hors du temps\,  où la légende rencontre la modernité« Débranche » n’est pas un simple concert\,  mais une expérience musicale immersive\,  une célébration vibrante de l’héritage intemporel de France Gall et[..]\nhttps://www.music-for-ever.fr/events/debranche-2/
URL:https://www.music-for-ever.fr/events/debranche-2/
END:VEVENT
END:VCALENDAR