BEGIN:VCALENDAR
VERSION:2.0
PRODID:-//eventon.com NONSGML v1.0//EN
CALSCALE:GREGORIAN
METHOD:PUBLISH
BEGIN:VEVENT
UID:69e828e98fdbb
DTSTAMP:20260422T034825
DTSTART:20260505T112300Z
DTEND:20260505T112300Z
TZID:Europe/Paris
LOCATION:Les Fuseaux - Saint-Dizier (52) 11 Avenue Raoul Laurent\,  52100 Saint-Dizier
SUMMARY:Caroline Vigneaux
DESCRIPTION: Dans « In Vigneaux Veritas »\,  Caroline Vigneaux s&rsquo;affirme à la moitié de sa vie\,  à la croisée des générations : suffisamment jeune pour avoir un compte TikTok (qu’elle confie malgré tout à quelqu’un d’autre…)\,  mais déjà expérimentée pour aborder\,  avec recul et finesse\,  des thématiques aussi variées que la légalisation[..]\nhttps://www.music-for-ever.fr/events/caroline-vigneaux/
URL:https://www.music-for-ever.fr/events/caroline-vigneaux/
END:VEVENT
END:VCALENDAR