BEGIN:VCALENDAR
VERSION:2.0
PRODID:-//eventon.com NONSGML v1.0//EN
CALSCALE:GREGORIAN
METHOD:PUBLISH
BEGIN:VEVENT
UID:69e00b11c71dc
DTSTAMP:20260416T000257
DTSTART:20260429T170600Z
DTEND:20260429T170600Z
TZID:Europe/Paris
LOCATION:L'Etage - Rennes (35) 1 Esp. Charles de Gaulle\,  35000 Rennes
SUMMARY:Wishbone Ash
DESCRIPTION: Wishbone Ash est un groupe de rock britannique formé en 1969\,  reconnu pour son innovation avec le style des « guitares jumelles ». Leur album Argus (1972) est un classique du rock\,  salué pour son mélange unique de rock\,  blues\,  et folk. Le groupe\,  mené par le guitariste Andy Powell\,  a connu[..]\nhttps://www.music-for-ever.fr/events/wishbone-ash/
URL:https://www.music-for-ever.fr/events/wishbone-ash/
END:VEVENT
END:VCALENDAR