BEGIN:VCALENDAR
VERSION:2.0
PRODID:-//eventon.com NONSGML v1.0//EN
CALSCALE:GREGORIAN
METHOD:PUBLISH
BEGIN:VEVENT
UID:69e828dda06d9
DTSTAMP:20260422T034813
DTSTART:20260519T093300Z
DTEND:20260519T093300Z
TZID:Europe/Paris
LOCATION:Le Point d'Eau - Ostwald (67) 17 All. René Cassin\,  67540 Ostwald
SUMMARY:Djamil le Shlag
DESCRIPTION: EXODE(S) Dans son dernier spectacle\,  Djamil le Shlag continue de creuser les sujets qui lui tiennent à cœur : l&rsquo;identité\,  l&rsquo;éducation et la transmission. Avec sa perspective libérée et électrisante sur les problèmes qui touchent ses contemporains\,  il apporte une bonne dose de rire et de positivité à une société[..]\nhttps://www.music-for-ever.fr/events/djamil-le-shlag/
URL:https://www.music-for-ever.fr/events/djamil-le-shlag/
END:VEVENT
END:VCALENDAR