BEGIN:VCALENDAR
VERSION:2.0
PRODID:-//eventon.com NONSGML v1.0//EN
CALSCALE:GREGORIAN
METHOD:PUBLISH
BEGIN:VEVENT
UID:69e828d9a4b1e
DTSTAMP:20260422T034809
DTSTART:20260522T140100Z
DTEND:20260522T140100Z
TZID:Europe/Paris
LOCATION:Théâtre de la Sinne - Mulhouse (68) 39 Rue de la Sinne\,  68100 Mulhouse
SUMMARY:Blandine Lehout
DESCRIPTION: Dans « La Vie de Ta Mère »Seule en scène – Drôle\,  cash et profondément humain Blandine Lehout est une tornade d&rsquo;énergie\,  d&rsquo;émotion et d&rsquo;humour. Autrice\,  comédienne et chroniqueuse\,  elle livre avec La Vie de Ta Mère un seul-en-scène audacieux\,  drôle et décapant\,  où se mêlent confessions crues\,  anecdotes délirantes et vérités[..]\nhttps://www.music-for-ever.fr/events/blandine-lehout/
URL:https://www.music-for-ever.fr/events/blandine-lehout/
END:VEVENT
END:VCALENDAR