BEGIN:VCALENDAR
VERSION:2.0
PRODID:-//eventon.com NONSGML v1.0//EN
CALSCALE:GREGORIAN
METHOD:PUBLISH
BEGIN:VEVENT
UID:69e828d5a8aa7
DTSTAMP:20260422T034805
DTSTART:20260526T144200Z
DTEND:20260526T144200Z
TZID:Europe/Paris
LOCATION:THEATRE – LE PUY EN VELAY (43) Théâtre du Puy-En-Velay\,  Place du Breuil\,  Le Puy-en-Velay
SUMMARY:Viktor Vincent
DESCRIPTION: FANTASTIK Tout commence par le récit d&rsquo;un homme qui se réveille seul dans un train au milieu de la nuit. Dans la vitre il aperçoit son reflet mais ce visage n&rsquo;est pas le sien. Il plonge alors dans un monde fantastique où derrière les apparences se cachent d&rsquo;autres apparences… Dans[..]\nhttps://www.music-for-ever.fr/events/viktor-vincent-4/
URL:https://www.music-for-ever.fr/events/viktor-vincent-4/
END:VEVENT
END:VCALENDAR