BEGIN:VCALENDAR
VERSION:2.0
PRODID:-//eventon.com NONSGML v1.0//EN
CALSCALE:GREGORIAN
METHOD:PUBLISH
BEGIN:VEVENT
UID:69e828cda827e
DTSTAMP:20260422T034757
DTSTART:20260423T170600Z
DTEND:20260423T170600Z
TZID:Europe/Paris
LOCATION:La RAYONNE - LYON (69) 7 Rue Henri Legay\,  69100 Villeurbanne
SUMMARY:Wishbone Ash
DESCRIPTION: Wishbone Ash est un groupe de rock britannique formé en 1969\,  reconnu pour son innovation avec le style des « guitares jumelles ». Leur album Argus (1972) est un classique du rock\,  salué pour son mélange unique de rock\,  blues\,  et folk. Le groupe\,  mené par le guitariste Andy Powell\,  a connu[..]\nhttps://www.music-for-ever.fr/events/wishbone-ash-2/
URL:https://www.music-for-ever.fr/events/wishbone-ash-2/
END:VEVENT
END:VCALENDAR